BEGIN:VCALENDAR
VERSION:2.0
PRODID:-//eventon.com NONSGML v1.0//EN
CALSCALE:GREGORIAN
METHOD:PUBLISH
BEGIN:VEVENT
UID:69e936e912dc4
DTSTAMP:20260422T160025
DTSTART:20260507
DTEND:20260511
TZID:America/Bogota
LOCATION:Iglesia del Nazareno Cali Calle 13 # 75-109
SUMMARY:Encuentro con Jesús para Mujeres
DESCRIPTION: 👩 Encuentro con Jesús – Mujeres | Mayo 7 al 9 de 2026 Más que un evento\,  este es un&nbsp;proceso con Dios. El Encuentro con Jesús para Mujeres es un tiempo apartado para restaurar el corazón\,  sanar heridas\,  renovar la identidad y afirmar el propósito que Dios tiene para cada[..]\nhttps://www.nazarenocali.org/events/encuentro-con-dios-para-mujeres/
URL:https://www.nazarenocali.org/events/encuentro-con-dios-para-mujeres/
END:VEVENT
END:VCALENDAR